BEGIN:VCALENDAR
VERSION:2.0
PRODID:-//ChamberMaster//Event Calendar 2.0//EN
METHOD:PUBLISH
X-PUBLISHED-TTL:P3D
REFRESH-INTERVAL:P3D
CALSCALE:GREGORIAN
BEGIN:VEVENT
DTSTART:20170726T183000Z
DTEND:20170726T200000Z
X-MICROSOFT-CDO-ALLDAYEVENT:FALSE
SUMMARY:B2B Networking Lunch - 7/26/2017
DESCRIPTION:
X-ALT-DESC;FMTTYPE=text/html:
LOCATION:Assistance League Huntington Beach 8071 Slater Ave\, Huntington Beach\, CA 92647 ** CARPOOL IS SUGGESTED **
UID:e.745.10119
SEQUENCE:3
DTSTAMP:20260419T174626Z
URL:http://hbchamber.chambermaster.com/events/details/b2b-networking-lunch-7-26-2017-10119
END:VEVENT

END:VCALENDAR
